Workbook
Name CareerDecision: '2. Career Decision Worksheet'!$A$1
Name SORT: '4. Inferences'!$A$6:$C$7
Name SORT2: '4. Inferences'!$A$8:$C$21

Sheet 1. COW Table of Contents
A1: FindingFIT CAREER OPTION WORKBOOK (COW)
A2: Your NAME: | B2: <type your name here>
A3: TABLE OF CONTENTS
A5: This workbook is designed to be used with the FindingFIT program. | C5: http://store.darden.virginia.edu/findingfit
A6: There are three levels of intensity (work involved), Light, Moderate, and Thorough. See FindingFIT for guidance.
A7: The COW is organized into three sections of color coded tabs: Core, Life Theme Worksheets and Self-Assessment Instruments.
A8: The Career Decision Worksheet (page 2) is where you will summarize all of your data and do your decision making analysis.
A9: CORE MODULE
A10: 1. Table of Contents (this page)
A11: 2. Career Decision Worksheet
A12: 3. Career Objective
A13: 4. Inferences
A14: LIFE THEME WORKSHEETS
A15: 5-10. Life Theme Worksheet Templates (You can and should add more of these as you need them, up to 30-50.)
C16: √ | D16: OR | E16: Done | F16: Almost | G16: Not Yet
B17: PROGRESS TRACKER: As you complete each step for each instrument you can track your progress here by copying (CTRL-C) a check or a color code and pasting (CTRL-V) on the cells you want.
A18: SELF-ASSESSMENT TOOLS Click on the links to go to that worksheet. We add new instruments periodically. | B18: GENERATE DATA | C18: FEELINGS RECORD | D18: LEARN THEORY | E18: PRACTICE | F18: RECORD SCORES | G18: GENERATE INFERENCES | H18: Copy Inferences to Inferences Page
A19: Self Awareness Assessment
A20: Life's Story Exercise
A21: Figure Test
A22: Predisposition Test
A23: Career Concepts
A24: Locus of Control/Outside-In vs. Inside-Out
A25: Survey of Managerial Style (SMS)
A26: Leadership Steps Assessment (LSA)
A27: Interpersonal Style Inventory (ISI)
A28: Lifestyle Representations
A29: Developmental Balance Wheel
A30: Energy Management Exercise
... A53: You can add as many instruments as you wish in this open-ended process. Simply insert a new row above and a new worksheet at the end of the workbook for each one.

Sheet 2. Career Decision Worksheet
A1: Career Decision Worksheet | J1: << Back
A2: This will be the central focal point of your analyis and where you make decisions about career options.
A4: NAME: | B4: ='1. COW Table of Contents'!B2:F2 -> <type your name here>
C6: "EV"= Expected Value (priority x rating)
C7: Ratings are from 1 to 5 where 5 is best/highest.
C8: Don't forget to set your "priorities" after you have finished your Themes List.
C10: "Options" are job alternatives that you're considering. Replace the Options with Names.
A11: CRITERIA | B11: PRIORITY | C11: OPTION ONE | E11: OPTION TWO | G11: OPTION THREE | I11: OPTION FOUR
A12: LIFE THEMES or IMPLICATIONS | B12: 1 - 5 | C12: Rating | D12: EV | E12: Rating | F12: EV | G12: Rating | H12: EV | I12: Rating | J12: EV
A13: Insert solid data-based themes here | D13: =$B13*C13 -> 0 | F13: =$B13*E13 -> 0 | H13: =$B13*G13 -> 0 | J13: =$B13*I13 -> 0
A14: ='Life Theme Worksheet #1'!C1 -> Proposed Theme Label (1) | B14: 5 | D14: =$B14*C14 -> 0 | F14: =$B14*E14 -> 0 | H14: =$B14*G14 -> 0 | J14: =$B14*I14 -> 0
A15: ='Life Theme Worksheet #2'!C1 -> THEME #2 | D15: =$B15*C15 -> 0 | F15: =$B15*E15 -> 0 | H15: =$B15*G15 -> 0 | J15: =$B15*I15 -> 0
A16: ='Life Theme Worksheet #3'!C1 -> THEME #3 | D16: =B16*C16 -> 0 | F16: =$B16*E16 -> 0 | H16: =$B16*G16 -> 0 | J16: =$B16*I16 -> 0
A17: ='Life Theme Worksheet #4'!C1 -> THEME #4 | D17: =B17*C17 -> 0 | F17: =$B17*E17 -> 0 | H17: =$B17*G17 -> 0 | J17: =$B17*I17 -> 0
A18: ='Life Theme Worksheet #5'!C1 -> THEME #5 | D18: =B18*C18 -> 0 | F18: =$B18*E18 -> 0 | H18: =$B18*G18 -> 0 | J18: =$B18*I18 -> 0
D19: =B19*C19 -> 0 | F19: =$B19*E19 -> 0 | H19: =$B19*G19 -> 0 | J19: =$B19*I19 -> 0
D20: =B20*C20 -> 0 | F20: =$B20*E20 -> 0 | H20: =$B20*G20 -> 0 | J20: =$B20*I20 -> 0
D21: =B21*C21 -> 0 | F21: =$B21*E21 -> 0 | H21: =$B21*G21 -> 0 | J21: =$B21*I21 -> 0
D22: =B22*C22 -> 0 | F22: =$B22*E22 -> 0 | H22: =$B22*G22 -> 0 | J22: =$B22*I22 -> 0
D23: =B23*C23 -> 0 | F23: =$B23*E23 -> 0 | H23: =$B23*G23 -> 0 | J23: =$B23*I23 -> 0
D24: =B24*C24 -> 0 | F24: =$B24*E24 -> 0 | H24: =$B24*G24 -> 0 | J24: =$B24*I24 -> 0
D25: =B25*C25 -> 0 | F25: =$B25*E25 -> 0 | H25: =$B25*G25 -> 0 | J25: =$B25*I25 -> 0
D26: =B26*C26 -> 0 | F26: =$B26*E26 -> 0 | H26: =$B26*G26 -> 0 | J26: =$B26*I26 -> 0
D27: =B27*C27 -> 0 | F27: =$B27*E27 -> 0 | H27: =$B27*G27 -> 0 | J27: =$B27*I27 -> 0
D28: =B28*C28 -> 0 | F28: =$B28*E28 -> 0 | H28: =$B28*G28 -> 0 | J28: =$B28*I28 -> 0
D29: =B29*C29 -> 0 | F29: =$B29*E29 -> 0 | H29: =$B29*G29 -> 0 | J29: =$B29*I29 -> 0
D30: =B30*C30 -> 0 | F30: =$B30*E30 -> 0 | H30: =$B30*G30 -> 0 | J30: =$B30*I30 -> 0
... D40: =B40*C40 -> 0 | F40: =$B40*E40 -> 0 | H40: =$B40*G40 -> 0 | J40: =$B40*I40 -> 0
B41: Sub Total FIT = | D41: =SUM(D13:D40) -> 0 | F41: =SUM(F13:F40) -> 0 | H41: =SUM(H13:H40) -> 0 | J41: =SUM(J13:J40) -> 0
B43: PERSONAL | C43: Org'n
A44: Common Job Demand Dimensions | B44: RATING | C44: Rating
A45: Responsibility (1 Low to 5 High) | D45: =B45*C45 -> 0 | F45: =$B45*E45 -> 0 | H45: =$B45*G45 -> 0 | J45: =$B45*I45 -> 0
A46: Pace (1 Low to 5 High) | D46: =B46*C46 -> 0 | F46: =$B46*E46 -> 0 | H46: =$B46*G46 -> 0 | J46: =$B46*I46 -> 0
A47: Location: work anywhere | D47: =B47*C47 -> 0 | F47: =$B47*E47 -> 0 | H47: =$B47*G47 -> 0 | J47: =$B47*I47 -> 0
A48: Hours: long and hard | D48: =B48*C48 -> 0 | F48: =$B48*E48 -> 0 | H48: =$B48*G48 -> 0 | J48: =$B48*I48 -> 0
A49: Social Interaction: constancy | D49: =B49*C49 -> 0 | F49: =$B49*E49 -> 0 | H49: =$B49*G49 -> 0 | J49: =$B49*I49 -> 0
A50: Autonomy | D50: =B50*C50 -> 0 | F50: =$B50*E50 -> 0 | H50: =$B50*G50 -> 0 | J50: =$B50*I50 -> 0
A51: Travel | D51: =B51*C51 -> 0 | F51: =$B51*E51 -> 0 | H51: =$B51*G51 -> 0 | J51: =$B51*I51 -> 0
A52: Functional Expertise | D52: =B52*C52 -> 0 | F52: =$B52*E52 -> 0 | H52: =$B52*G52 -> 0 | J52: =$B52*I52 -> 0
A53: Ambiguity | D53: =B53*C53 -> 0 | F53: =$B53*E53 -> 0 | H53: =$B53*G53 -> 0 | J53: =$B53*I53 -> 0
...

Sheet 3. Career Objective
A1: Career Objective | C1: <<Back
A3: Once you have developed confidence in your Self Assessment, that is, your list of Life Themes developed from your self-assessment data, you will begin thinking about a "Career Objective."
A4: You can collect your thoughts about your career objective here/below.
A6: CAREER/JOB OBJECTIVE EXERCISE
A7: This exercise is designed to help you think about the “who”, “what”, “when” and “where” of your next career move. Recognizing and categorizing key issues in your professional and personal life are essential when developing a targeted job objective statement. A well-formed job objective is crucial for successful networking, marketing (resume, social media), and interviewing.
A9: Part 1: Defining Your Key Criteria
A10: Expressing your preferences, likes and dislikes over a set of key professional and personal variables will help focus and prioritize your objectives. What are the key variables to assess? The following list is a good start:
A13: PART 1 - DEFINING YOUR KEY CRITERIA
A14: LIKES | B14: DISLIKES
A16: WHAT do I want to do?
A17: INDUSTRY, PRODUCTS, SERVICES
A19: ORGANIZATIONAL CHARACTERISTICS (SIZE, STRUCTURE, POSITION, ETC.)
A21: FUNCTIONAL ROLES, SKILLS, STRENGTHS (TASKS, POSITIONS, TITLES, ETC.)
A23: CAREER PATH GOALS (LEVEL, SPAN, ADVANCEMENT, ETC.)
A25: Other: ________________________________
A27: With WHOM do I want to work?
A28: LEADERSHIP (VISION, MISSION)
A30: CULTURE (SHARED VALUES, BELIEFS, ATTITUDES)
A32: PEOPLE (SUBORDINATES, TEAMMATES, CLIENTS, VENDORS, ETC.)
A34: PERSONAL GROWTH POTENTIAL (CHALLENGE, LEARNING CURVE)
A36: Other: _________________________________
... A53: HOW MANY AND WHAT STEPS ARE INVOLVED TO MAKE A CHANGE?
A54: STEPS | B54: TIMEFRAME
A61: Part 2 - Create Your Job Objective Statement
A62: In 100 words or less develop a first draft of your job objectives statement using notes and thoughts from Part 1. Before you begin, let us give you some examples (below) to guide your thinking.
A63: YOUR CAREER OBJECTIVE
A66: CAREER OBJECTIVE EXAMPLES
A67: Example #1:
A68: I am seeking a significant marketing role in a dynamic and growing mid-market products company. The title of the position is less important than the responsibilities, and I prefer to be very hands-on doing analysis and developing media plans and marketing strategy with cross-functional teams. I have a solid marketing background to offer and thrive in a collegial, high-energy atmosphere that respects diversity and fosters new learning. I will live in the Mid-Atlantic or Southeast where there is access to outdoors, sports, arts and community culture.
A69: Example #2:
A70: I am seeking a position in planning and strategy. This might include strategy consulting, a planning and strategy position in a corporation or a business development position if strategic planning were the principal component. I would prefer a major, established firm with a reputation for high integrity. Geographically, I would prefer a medium size city on the East Coast. I want to work in a team oriented environment with individuals that seek and respect diversity. I need to be in a new position within 6-9 months or earlier if possible.
A72: Making Your Job Objective “Market” Sensitive
A73: It is important to convert your desires to show how you will add value to a potential hiring company. Review the two samples below and be sure that you are using your objective statement to show the listener what’s in it for them!
A75: Job “Internal” Objective Statement
A76: I am seeking a Senior Business Development or Strategic Consulting position to contribute to the revenue and market share growth of an organization by developing and executing strategic plans for new high-tech products and markets. I would prefer a major, established firm that has a reputation for high integrity. Geographically, I would prefer the greater Washington, D.C. area. I want to work in a teamwork environment with individuals that seek and respect diversity. I wish to be in my new position by year end.
... A82: WHAT do I want to do?
A83: LIKES | B83: DISLIKES
A84: INDUSTRY, PRODUCTS, SERVICES
A85: Consumer goods/Hospitality/Service/Retail | B85: B-2-B products/services, Healthcare
A87: ORGANIZATIONAL CHARACTERISTICS (SIZE, STRUCTURE, POSITION, ETC.)
...

Sheet 4. Inferences
B1: INFERENCES PAGE | D1: <<Back
B3: You will be copying your INFERENCES sections from EACH self-assessment tool to the three columns below so you can sort on KEY WORDs (THEME or TOPIC words, third column) at the end. VERY useful.
B4: You may end up with several hundred inferences listed below.
A5: SOURCE | B5: INFERENCE: "This is a person who …" | C5: Key Word
A6: e.g. FIRO-B | B6: eI 2: likes to work alone (include raw data when you can) | C6: e.g. Solitude
A7: e.g. SAA | B7: "I like to reflect on what I've just heard." | C7: e.g. Reflection

Sheet Life Theme Worksheet #1
A1: <<Back | B1: LIFE THEME LABEL --> | C1: Proposed Theme Label (1) | D1: INDEX (+,-,#) | E1: INDEX WORD | F1: CLUSTER
A3: SOURCE | B3: SUPPORTING EVIDENCE | C3: CONTRADICTORY EVIDENCE

Sheet Life Theme Worksheet #2
A1: <<Back | B1: LIFE THEME LABEL: | C1: THEME #2 | D1: INDEX (+,-,#) | E1: INDEX WORD | F1: CLUSTER
A3: Source | B3: SUPPORTING EVIDENCE | C3: CONTRADICTORY EVIDENCE

Sheet Life Theme Worksheet #3
A1: <<Back | B1: LIFE THEME LABEL: | C1: THEME #3 | D1: INDEX (+,-,#) | E1: INDEX WORD | F1: CLUSTER
A3: Source | B3: SUPPORTING EVIDENCE | C3: CONTRADICTORY EVIDENCE

Sheet Life Theme Worksheet #4
A1: <<Back | B1: LIFE THEME LABEL: | C1: THEME #4 | D1: INDEX (+,-,#) | E1: INDEX WORD | F1: CLUSTER
A3: Source | B3: SUPPORTING EVIDENCE | C3: CONTRADICTORY EVIDENCE

Sheet Life Theme Worksheet #5
A1: <<Back | B1: LIFE THEME LABEL: | C1: THEME #5 | D1: INDEX (+,-,#) | E1: INDEX WORD | F1: CLUSTER
A3: Source | B3: SUPPORTING EVIDENCE | C3: CONTRADICTORY EVIDENCE

Sheet SA1. SAA
A1: SELF AWARENESS ASSESSMENT (SAA) | E1: <<Back
A2: NOTE: Each response to this deductive, starting instrument might be a potential Life Theme.
A3: If you chose the "Quick and Dirty" approach, this will be the only instrument you complete. For the Moderate and Thorough Approaches, this is only the starting point.
D4: ANALYSIS
A5: Write down what you "know" about yourself in the spaces below. | D5: "These data describe a person who …"
A6: How I Think | D6: (When you're ready (having completed the instrument to the left and made your inferences below), you can copy the three columns below to your INFERENCES page for later sorting.)
A7: e.g. "I'm a rational person." | C7: TOOL | D7: INFERENCES: | E7: Key Word
C8: SAA | D8: e.g. "I'm a rational person." | E8: Rational
C9: SAA
C10: SAA
C11: SAA
C12: SAA
A13: How I Deal With Other People | C13: SAA
A14: e.g. "I prefer to do things in groups." | C14: SAA
C15: SAA
C16: SAA
C17: SAA
C18: SAA
C19: SAA
A20: How I Organize My Life | C20: SAA
C21: SAA
C22: SAA
C23: SAA
C24: SAA
C25: SAA
A26: The Things I Like To Do | C26: SAA
C27: SAA
C28: SAA
C29: SAA
C30: SAA
C31: SAA
A32: Where I Prefer to Live | C32: SAA
C33: SAA
C34: SAA
C35: SAA
C36: SAA
C37: SAA
A38: Level of Activity (pace) I Prefer | C38: SAA
C39: SAA
C40: SAA
...

Sheet SA2. FEELINGS RECORD
A1: FEELINGS RECORD FOR: | B1: ='1. COW Table of Contents'!B2:F2 -> <type your name here> | C1: <<Back | D1: INFERENCES from your Feelings Record (left) "These data describe a person who…":
B2: EMOTIONAL DATA: Make your Feelings Record entries in the green cells below for the relevant instruments. These entries are answers to questions like, "How did taking this instrument make you feel? Did you like this instrument or not? Why? What if any nagging feelings did you have about this instrument?" Your entries will automatically wrap in the space provided. You can widen the column if you wish. | E2: (When you're ready, you can copy the three columns below to your INFERENCE Sheet, page 4.)
D3: TOOL | E3: INFERENCE | F3: Key Word
B4: TEXT | D4: FR
A5: Self Awareness Assessment | D5: FR
A6: Feelings Record | D6: FR
A7: Dyad Partner Feedback | D7: FR
A8: Life's Story Exercise | D8: FR
A9: Figure Test | D9: FR
A10: Career Concepts | D10: FR
A11: Locus of Control/Outside-In vs. Inside-Out | D11: FR
A12: Developmental Balance Wheel | D12: FR
A13: Energy Management Exercise | D13: FR
A14: Flow/Resonance | D14: FR
A15: Myers Briggs Type Indicator | D15: FR
A16: Predisposition Test | D16: FR
... A29: Interpersonal Style Inventory | D29: FR
D30: FR

Sheet SA3. Life's Story Exercise
A1: Life's Story Exercise | D1: <<Back
A2: There are four steps to this assignment.
A4: 1. Write your Life's Story in 400 words or less in the space to the right or on paper or in a word processor as you wish. | C4: (Write your Life's Story in 400 words or less here.)
A6: 2. List the key events in your story in the column below to the left. E.g. Parent's Divorce, etc.
A7: 3. Insert your own rating numbers (+5 to -5) in the Rating column. The chart will generate automatically.
A8: 4. Write in the "Lesson Learned" column the key lessons or life's lessons you learned from each event/incident.
A9: 2. Key Events | B9: 3. Emotional Rating | C9: 4. Lesson Learned
B10: 2
B11: 3
B12: 4
B13: 5
B14: -4
B15: -3
B16: 5
B17: -4
B18: 3
B19: -2
B20: 5
B21: 3
... B27: 5
C30: "These data describe a person who …"
C31: (When you're ready, you can copy the three columns below to your INFERENCES page for your convenience.)
B32: TOOL | C32: INFERENCES: | D32: Related TOPIC
B33: LSE
B34: LSE
B35: LSE
B36: LSE
B37: LSE
B38: LSE
B39: LSE
B40: LSE
B41: LSE
B42: LSE
B43: LSE
B44: LSE
... B64: LSE

Sheet SA4. Figure Test
A1: Figure Test | D1: <<Back
B3: There is a link to this instrument in the FIndingFIT pdf document.
B4: Replace these green TALLY numbers with your own tallies. The %'s and the chart will generate automatically.
C6: Tallies | D6: %
A7: Environment
B8: Environment Active | C8: 2 | D8: =C8/$C$20 -> 0.10526316
B9: Environment Passive | C9: 4 | D9: =C9/$C$20 -> 0.21052632
B10: Sub-Total | C10: =SUM(C8:C9) -> 6 | D10: =SUM(D8:D9) -> 0.31578947
A11: People
B12: People Affection | C12: 2 | D12: =C12/$C$20 -> 0.10526316
B13: People Aggression | C13: 3 | D13: =C13/$C$20 -> 0.15789474
B14: People Communication | C14: 2 | D14: =C14/$C$20 -> 0.10526316
B15: People Dependence | C15: 1 | D15: =C15/$C$20 -> 0.052631579
B16: People Direction | C16: 2 | D16: =C16/$C$20 -> 0.10526316
B17: People Exhibition | C17: 3 | D17: =C17/$C$20 -> 0.15789474
B18: Sub-Total | C18: =SUM(C12:C17) -> 13 | D18: =C18/$C$20 -> 0.68421053
A19: Other
B20: Grand Total | C20: =SUM(C10, C18, C19) -> 19 | D20: =D10+D18 -> 1
A22: INFERENCES
A23: "These data describe a person who …"
A24: TOOL | B24: INFERENCES: | C24: Related TOPIC
A25: FIGTEST
A26: FIGTEST
A27: FIGTEST
A28: FIGTEST
A29: FIGTEST
A30: FIGTEST
A31: FIGTEST
A32: FIGTEST
A33: FIGTEST
A34: FIGTEST
A35: FIGTEST
A36: FIGTEST
... A56: FIGTEST

Sheet SA5. Predisposition Test
A1: Predisposition Test | D1: <<Back
A2: After taking the instrument on-line or by paper as instructed by your facilitator, enter your scores in the green cells below.
B3: The on-line instrument is available here. --> | D3: http://virginia.qualtrics.com/SE/?SID=SV_0wGsQuNf7Z7MMiE
C5: SCORES
B6: Tolerance for Ambiguity =
B7: Preference for Autonomy =
B8: Preference for Solitude =
B11: Compared with some MBA students | D11: Average Predisposition Test Scores for Various Groups of MBA students
K12: Age | L12: Age | M12: Age
D13: Overall | E13: Men | F13: Women | G13: Married | H13: Single | I13: USA | J13: Foreign | K13: 20-25 | L13: 26-30 | M13: 31-40
C14: TOLERANCE FOR AMBIGUITY = | D14: 2.84 | E14: 2.82 | F14: 2.86 | G14: 2.77 | H14: 2.87 | I14: 2.82 | J14: 2.91 | K14: 2.86 | L14: 2.8 | M14: 2.84
C15: PREFERENCE FOR AUTONOMY = | D15: 2.61 | E15: 2.58 | F15: 2.66 | G15: 2.61 | H15: 2.61 | I15: 2.59 | J15: 1.7 | K15: 2.58 | L15: 2.62 | M15: 2.64
C16: PREFERENCE FOR SOLITUDE = | D16: 2.62 | E16: 2.6 | F16: 2.64 | G16: 2.65 | H16: 2.61 | I16: 2.59 | J16: 2.78 | K16: 2.6 | L16: 2.58 | M16: 2.71
C17: N= | D17: 120 | E17: 75 | F17: 43 | G17: 40 | H17: 79 | I17: 102 | J17: 17 | K17: 51 | L17: 42 | M17: 26
B19: *This information has been taken from the average test scores of the 1978 Self-Assessment and Career Development class at the Harvard Business School.
A21: When you're ready (having finished making inferences and noting their related TOPICs), copy the three columns below into your INFERENCES page.
A24: "These data describe a person who …"
A25: Tool | B25: INFERENCES | C25: Related TOPIC
A26: Predispo
A27: Predispo
A28: Predispo
A29: Predispo
A30: Predispo
A31: Predispo
A32: Predispo
A33: Predispo
A34: Predispo
A35: Predispo
A36: Predispo
A37: Predispo
... A47: Predispo

Sheet SA6. Career Concepts
A1: Career Concepts | J1: <<Back
A2: Follow your instructor's guidance in using either the on-line or paper version of this instrument.
B3: The on-line version is here --> | F3: http://virginia.qualtrics.com/SE/?SID=SV_e8Pdgv8sZERdluQ
A4: The theory behind the instrument is explained at the end of the paper and on-line documents.
B6: When you're done, insert your data in the green cells. The rest is automatic.
B7: Part One | C7: Part Two | D7: Total
A8: Linear | B8: 8 | C8: 14 | D8: =SUM(B8:C8) -> 22
A9: Technical Expert | B9: 22 | C9: 21 | D9: =SUM(B9:C9) -> 43
A10: Spiral | B10: 1 | C10: 2 | D10: =SUM(B10:C10) -> 3
A11: Transitory | B11: 8 | C11: 6 | D11: =SUM(B11:C11) -> 14
F21: "These data describe a person who …"
F22: When you're ready (having finished making inferences and noting their related TOPICs), copy the three columns below into your INFERENCES page.
F23: Source | G23: INFERENCES | H23: Key Word
F24: CARCON
F25: CARCON
F26: CARCON
F27: CARCON
F28: CARCON
F29: CARCON
F30: CARCON
F31: CARCON
F32: CARCON
F33: CARCON
F34: CARCON
F35: CARCON
... F45: CARCON

Sheet SA7. Locus of Control
A1: LOCUS OF CONTROL | F1: <<Back
B2: The link to this instrument is in the FindingFIT pdf file.
D4: Insert your score in the green cell
C5: Your Score:
D7: … and compare with the general population norms below.
B8: Normalized | C8: Degree of control personality
B9: Score
B11: 0 - 15 | C11: Very strong external locus of control
B12: 20 - 35 | C12: External locus of control
B13: 40 - 60 | C13: Both external and internal locus of control
B14: 65 - 80 | C14: Internal locus of control
B15: 85 - 100 | C15: Very strong internal locus of control
B17: "These data describe a person who …"
B18: When you're ready (having finished making inferences and noting their related TOPICs), copy the three columns below into your INFERENCES page.
B19: Tool | C19: INFERENCES | D19: Related TOPIC
B20: LoControl
B21: LoControl
B22: LoControl
B23: LoControl
B24: LoControl
B25: LoControl
B26: LoControl
B27: LoControl
B28: LoControl
B29: LoControl
B30: LoControl

Sheet SA8. SMS
A1: Survey of Managerial Style (SMS) | H1: <<Back
A3: This is the link to the on-line version of this instrument. --> | D3: http://virginia.qualtrics.com/SE/?SID=SV_dnxICDUXE6QpbvL
A5: Insert your scores in the green cells in the table below. The bar and pie charts will generate automatically.
F6: VALUE OF LEADERSHIP TOTAL SCORE
B7: CLUSTER SKILL SET | C7: SCORES | D7: %'s
B8: VISION = | C8: 6 | D8: =C8/C11 -> 0.16216216 | G8: 15-29 | H8: 30-44 | I8: 45-59 | J8: 60-74 | K8: 75-90
B9: SELLING = | C9: 15 | D9: =C9/C11 -> 0.40540541
A10: MANAGING = | C10: 16 | D10: =C10/C11 -> 0.43243243
B11: Total = | C11: =SUM(C8:C10) -> 37
A13: Copy this section to your INFERENCES page when you're done analyizing.
A14: "These data describe a person who …" | F14: VALUE OF LEADERSHIP SKILL CLUSTERS PROPORTIONALLY
A15: SOURCE | B15: INFERENCES | C15: TOPIC
A16: SMS
A17: SMS
A18: SMS
A19: SMS
A20: SMS
A21: SMS
A22: SMS
A23: SMS
A24: SMS
F26: The Profiles below illustrate some common alternatives.

Sheet SA9. LSA
A1: Leadership Steps Assessment (LSA) | G1: <<Back
C3: This instrument is available in paper or on-line at FindingFIT.
C4: The on-line version is here: | D4: http://virginia.qualtrics.com/SE/?SID=SV_8kK6FJQBy0InfHS
D6: YOUR SCORES
B7: Clarifying Your Center | D7: 22
B8: Clarifying What's Possible | D8: 32
B9: Clarifying What Others Can Contribute | D9: 21
B10: Supporting Others So They Can Contribute | D10: 26
B11: Relentlessness | D11: 34
B12: Celebrating Progress | D12: 16
B15: What Inferences can you draw from your profile?
B16: This is a person who…
B17: Source | C17: Inference | D17: Topic
B18: LSA
B19: LSA
B20: LSA
B21: LSA
B22: LSA
B23: LSA
B24: LSA
B25: LSA
B26: LSA
B27: LSA
B28: LSA
B29: LSA
... B41: Copy this section to your INFERENCES page when you're done.

Sheet SA10. ISI
A1: Interpersonal Style Inventory (ISI) | E1: <<Back
A3: This is a 360* feedback instrument that invites data from people who know you.
A4: The Qualtrics 360* version is no longer available. Instead, download this document that will guide you through the process.
C5: https://nadobimakoba.com/wp-content/uploads/2024/01/Chapter-18-ISI.pdf
A6: This PDF file also includes a link to an Excel file that will automatically chart the data you collect (from self and others).
A7: The PDF file includes paper copies of the Current, Ideal, and Acquaintance surveys. It invites you to distribute the last to 5+ people who know you.
A8: The PDF file also includes two sample profiles and instructions for interpreting the data.
A9: You can record your Inferences from the instrument here however.
B11: What Inferences can you draw from your profile?
B12: This is a person who…
B13: Source | C13: Inference | D13: Topic
B14: ISI
B15: ISI
B16: ISI
B17: ISI
B18: ISI
B19: ISI
B20: ISI
B21: ISI
B22: ISI
B23: ISI
B24: ISI
B25: ISI
... B37: Copy this section to your INFERENCES page when you're done.

Sheet SA11. Lifestyle Rep
A1: Lifestyle Representation | E1: <<Back
A3: This is a projective instrument designed to generate data on your preferred Lifestyle.
A4: Instructions for the exercise are in FindingFIT.
A5: Once you have generated your data, you can record your analysis (inferences) below.
B9: What Inferences can you draw from your representations?
B10: This is a person who…
B11: Source | C11: Inference | D11: Topic
B12: LSR
B13: LSR
B14: LSR
B15: LSR
B16: LSR
B17: LSR
B18: LSR
B19: LSR
B20: LSR
B21: LSR
B22: LSR
B23: LSR
... B35: Copy this section to your INFERENCES page when you're done.

Sheet SA12. Balance Wheel Development
A1: BALANCE WHEEL ANALYSIS | I1: <<Back
D2: To be used with "Balancing Your Life" exercise (UVA-OB-323) or from Level Three Leadership Book 5e
D3: On the wheel, the scale is 1 = "No development/infantile", 5 = "Average" and 10 = "World Class among all humans."
A5: Complete your own Balance Wheel with Current and Ideal ratings in the green cells below. The chart will self generate.
A6: VALID RATINGS ARE BETWEEN 1-10 where 10 is "world class."
C7: SELF | D7: SELF
C8: CURRENT | D8: IDEAL
A9: Professional | B9: Professional Status | C9: 1 | D9: 2
A10: Financial | B10: Net Wealth | C10: 1 | D10: 2
A11: Material | B11: Houses, cars, etc. | C11: 1 | D11: 2
A12: Associational | B12: Professional Associates | C12: 1 | D12: 2
A13: Physical | B13: Fitness | C13: 4 | D13: 2
A14: Intellectual | B14: Intelligence | C14: 4 | D14: 2
A15: Emotional | B15: Maturity | C15: 4 | D15: 2
A16: Recreational | B16: Leisure time & recreation | C16: 1 | D16: 2
A17: Familial | B17: Taking care of parents | C17: 1 | D17: 2
A18: Marital | B18: As a spouse | C18: 1 | D18: 2
A19: Parental | B19: As a parent | C19: 1 | D19: 2
A20: Social | B20: Personal Friends | C20: 1 | D20: 2
... A24: Political | B24: Involved in politics | C24: 1 | D24: 2
A30: "These data describe a person who …"
A31: When you're ready (having finished making inferences and noting their related TOPICs), copy the three columns below into your INFERENCES page.
A32: Tool | B32: INFERENCES | C32: Related TOPIC
A33: BalWheel
A34: BalWheel
A35: BalWheel
A36: BalWheel
A37: BalWheel
A38: BalWheel
A39: BalWheel
A40: BalWheel
A41: BalWheel
A42: BalWheel
A43: BalWheel
A44: BalWheel
... A54: BalWheel

Sheet SA13. Energy Exercise
A1: Energy Management Exercise | E1: When you're ready (having finished making inferences and noting their related TOPICs), copy the three columns below into your INFERENCES page. | H1: <<Back
E2: "These data describe a person who …"
B3: Fill in the green and red cells with things that either ENERGIZE you or DE-ENGERGIZE you. | E3: Tool | F3: INFERENCES | G3: Related TOPIC
B4: Energizers | C4: Drainers | E4: Energy
B5: e.g. exercise | C5: e.g. grouchy people | E5: Energy
E6: Energy
E7: Energy
E8: Energy
E9: Energy
E10: Energy
E11: Energy
E12: Energy
E13: Energy
E14: Energy
E15: Energy
E16: Energy
E17: Energy
... E25: Energy

Sheet SA13b. FLOW
A1: FLOW | B1: (Resonance, in the "Zone") | D1: <<Back
B3: After you have read and reflected on the material in "Leadership and Resonance" in Level Three Leadership 5th edition or the precursor to that chapter, "Leadership and Resonance," UVA-OB-0626, enter a draft of your LDint in the green space below.
A5: How do you want to FEEL?
A10: "These data describe a person who …"
A11: When you're ready (having finished making inferences and noting their related TOPICs), copy the three columns below into your INFERENCES page.
A12: Tool | B12: INFERENCES | C12: Related TOPIC
A13: Resonance
A14: Resonance
A15: Resonance
A16: Resonance
A17: Resonance
A18: Resonance
A19: Resonance
A20: Resonance
A21: Resonance
A22: Resonance
A23: Resonance

Sheet SA14. MBTI
A1: MYERS BRIGGS TYPE INDICATOR | G1: <<Back
B3: We assume here that you have taken the MBTI elsewhere through a CPP licensed vendor. AND had an introduction to the theory behind the instrument
C5: Enter your scores in the green cells below.
B6: Extraversion | E6: Intraversion | G6: "These data describe a person who …"
B7: Sensing | E7: Intuition | G7: When you're ready (having finished making inferences and noting their related TOPICs), copy the three columns below into your INFERENCES page.
B8: Thinking | E8: Feeling
B9: Perceiving | E9: Judging
G10: Tool | H10: INFERENCES | I10: Key Word
G11: MBTI
G12: MBTI
G13: MBTI
G14: MBTI
G15: MBTI
G16: MBTI
G17: MBTI
G18: MBTI
G19: MBTI
G20: MBTI
G21: MBTI
G22: MBTI
... G32: MBTI

Sheet SA15. LSS
A1: CAP Learning Style Survey (LSS) | G1: <<Back
C3: This instrument is available in paper or on-line on FindingFIT.
D4: The on-line version is here: | E4: http://virginia.qualtrics.com/SE/?SID=SV_bfFZJAR3iKgvAtD
G5: Insert your scores in the green cells and the chart will re-generate.
E6: Your Scores
C7: Mentoring | D7: = | E7: 15
C8: Role-Taking | D8: = | E8: 43
C9: Practical Accomplishment | D9: = | E9: 13
C10: Validational | D10: = | E10: 23
C11: Anticipatory | D11: = | E11: 34
C12: Scientific | D12: = | E12: 23
B17: What Inferences can you draw from your profile?
B18: This is a person who…
B19: Source | C19: Inference | D19: Topic
B20: LSS
B21: LSS
B22: LSS
B23: LSS
B24: LSS
B25: LSS
B26: LSS
B27: LSS
B28: LSS
B29: LSS
B30: LSS
B31: LSS
... B43: Copy this section to your INFERENCES page when you're done.

Sheet SA16. ABP
A1: Assessing Your Behavior Pattern | E1: <<Back
A3: This is a objective instrument designed to measure a particular behavior.
A4: Instructions for the exercise are on FindingFIT.
A5: Once you have generated your data, you can record your analysis (inferences) below.
B9: What Inferences can you draw from your profile?
B10: This is a person who…
B11: Source | C11: Inference | D11: Topic
B12: ABP
B13: ABP
B14: ABP
B15: ABP
B16: ABP
B17: ABP
B18: ABP
B19: ABP
B20: ABP
B21: ABP
B22: ABP
B23: ABP
... B35: Copy this section to your INFERENCES page when you're done.

Sheet SA17. SBC
A1: Survey of Behavioral Characteristics (SBC) | G1: <<Back
A3: This is a objective instrument designed to measure a particular behavior.
A4: Instructions for the exercise are on FindingFIT.
A5: Once you have generated your data, you can record your analysis (inferences) below.
B9: What Inferences can you draw from your profile?
B10: This is a person who…
B11: Source | C11: Inference | D11: Key Word
B12: SBC
B13: SBC
B14: SBC
B15: SBC
B16: SBC
B17: SBC
B18: SBC
B19: SBC
B20: SBC
B21: SBC
B22: SBC
B23: SBC
... B35: Copy this section to your INFERENCES page when you're done.

Sheet SA18. Time Logs
A1: TIME LOGS | E1: <<Back
A3: This is a "behavioral instrument" in that you record what you actually do during a day rather than drawing conclusions based on reflection.
A4: Instructions for the exercise are on FindingFIT.
A5: Basically, we ask you to pick two days or a week if you're willing, and keep a 15 minute by 15 minute log of what you actually are doing.
A6: With data in hand, then you can more objectively analyze how you spend your time and what that might mean for who you are.
A7: Once you have generated your data, you can record your analysis (inferences) below.
B9: What Inferences can you draw from your data?
B10: This is a person who…
B11: Source | C11: Inference | D11: Key Word
B12: Tlog
B13: TLog
B14: TLog
B15: TLog
B16: TLog
B17: TLog
B18: TLog
B19: TLog
B20: TLog
B21: TLog
B22: TLog
B23: TLog
... B35: Copy this section to your INFERENCES page when you're done.

Sheet SA19. DYAD PARTNER
A1: DYAD PARTNER FEEDBACK | E1: <<Back
A3: This is a place where you can collect your Dyad Partner's Feedback.
A4: Instructions for the exercise are on FindingFIT.
A5: If you are working alone on FindingFIT, you won't have a Dyad Partner.
A6: A Dyad Partner is another person, usually taking a careers course with you, who understands the process and offers a second set of analytical eyes.
A7: Input the data your Dyad Partner gave you in the space below. Note the instrument (e.g. DP-SAA). Select a Key Word for each inference they gave you.
B9: What Inferences did you Dyad Partner draw about you from your data?
B10: This is a person who…
B11: Source | C11: Inference | D11: Key Word
B12: DP-SAA
B13: DP
B14: DP
B15: DP
B16: DP-LSE
B17: DP
B18: DP-CC
B19: DP
B20: DP
B21: DP-FR
B22: DP
B23: DP
... B35: Copy this section to your INFERENCES page when you're done.

Sheet SA20. Written Interview
A1: WRITTEN INTERVIEW | D1: <<Back
A3: This is perhaps the most time intensive, and valuable, instrument of all.
A4: The Written Interview is the big brother to the Life's Story Exercise. In the WI though, there is no word limit.
A5: Some students have written up to 100 pages single spaced. (They may have a theme like "a bit obsessive.")
A6: Instructions for the Written Interview are on FindingFIT.
A7: Students in our careers courses report that the Written Interview was their favorite, most robust, and richest data set.
A11: When you're ready (having finished making inferences and noting their related TOPICs), copy the three columns below into your INFERENCES page.
A12: "These data describe a person who …"
A13: Tool | B13: INFERENCES | C13: Related TOPIC
A14: WI
A15: WI
A16: WI
A17: WI
A18: WI
A19: WI
A20: WI
A21: WI
A22: WI
A23: WI
A24: WI
A25: WI
... A46: WI

Sheet SA21. Culture
A1: CULTURAL ASSESSMENT | F1: <<Back
B3: This page is based on the Cultural Intelligence instrument developed by Cultural Intelligence, LLC.
B4: Contact them for the instrument and report.
B5: Insert your scores on this instrument in the green cells below and the chart will generate.
B7: DRIVE | C7: 22
B8: KNOWLEDGE | C8: 67
B9: STRATEGY | C9: 86
B10: ACTION | C10: 21
A13: When you're ready (having finished making inferences and noting their related TOPICs), copy the three columns below into your INFERENCES page.
A14: "These data describe a person who …"
A15: Tool | B15: INFERENCES | C15: Related TOPIC
A16: CULTURE
A17: CULTURE
A18: CULTURE
A19: CULTURE
A20: CULTURE
A21: CULTURE
A22: CULTURE
A23: CULTURE
A24: CULTURE
A25: CULTURE
A26: CULTURE
A27: CULTURE
... A37: CULTURE

Sheet SA22. Darden 360
A1: DARDEN LEADERSHIP 360* | E1: <<Back
B2: This instrument is by invitation only. Contact Professor Kristin Behfar at BehfarK@darden.virginia.edu
B4: Scores | C4: Self | D4: Other
B5: Results Orientation
B6: Perseverance and Tenacity
B7: Business Judgment and Analysis
B8: Enterprise Perspective
B9: Social Awareness
B10: Global Awareness and Perspective
B11: Collaborative Team Player
B12: Develops Self and Others
B13: Curiosity and Creativity
B14: Learning Agility
B15: Confidence
B16: Integrity and Honesty
A23: When you're ready (having finished making inferences and noting their related TOPICs), copy the three columns below into your INFERENCES page.
A24: "These data describe a person who …"
A25: Tool | B25: INFERENCES | C25: Key Word
A26: D360*
A27: D360*
A28: D360*
A29: D360*
A30: D360*
A31: D360*
A32: D360*
A33: D360*
A34: D360*
A35: D360*
A36: D360*
A37: D360*
... A58: D360*

Sheet SA23. FIRO-B
A1: FIRO-B | F1: <<Back
B2: After taking the instrument on-line or by paper as instructed by your facilitator, and learning about the theory of the tool, enter your scores in the green cells below.
C4: INCLUSION | D4: CONTROL | E4: AFFECTION | F4: Total
B5: Expressed | C5: 3 | D5: 3 | E5: 6 | F5: =SUM(C5:E5) -> 12
B6: Wanted | C6: 2 | D6: 4 | E6: 4 | F6: =SUM(C6:E6) -> 10
C7: =C5+C6 -> 5 | D7: =D5+D6 -> 7 | E7: =E5+E6 -> 10
C8: Total | D8: Total | E8: Total
A12: When you're ready (having finished making inferences and noting their related TOPICs), copy the three columns below into your INFERENCES page.
A13: "These data describe a person who …"
A14: Tool | B14: INFERENCES | C14: Key Word | E14: One sample set of data…
A15: FIRO-B
A16: FIRO-B
A17: FIRO-B
A18: FIRO-B
A19: FIRO-B
A20: FIRO-B
A21: FIRO-B
A22: FIRO-B
A23: FIRO-B
A24: FIRO-B
A25: FIRO-B
A26: FIRO-B
... A36: FIRO-B

Sheet SA24. Big Five
A1: Big Five | E1: <<Back
B3: After taking the instrument on-line at: | D3: http://www.outofservice.com/bigfive/
C4: …enter your scores in the green cells below.
C5: SCORES | D5: PERCENTILE
B6: Openness =
B7: Conscientiousness =
B8: Extraversion =
B9: Agreeableness =
B10: Neuroticism =
A15: When you're ready (having finished making inferences and noting their related TOPICs), copy the three columns below into your INFERENCES page.
A16: "These data describe a person who …"
A17: Tool | B17: INFERENCES | C17: Key Word
A18: Big 5
A19: Big 5
A20: Big 5
A21: Big 5
A22: Big 5
A23: Big 5
A24: Big 5
A25: Big 5
A26: Big 5
A27: Big 5
A28: Big 5
A29: Big 5
... A39: Big 5

Sheet SA25. Strengths Finder
A1: Strengths Finder: | F1: <<Back
B2: After taking the instrument on-line or by paper as instructor by your facilitator, enter your scores in the green cells below.
B4: Strength Finder Themes | C4: Scores
B5: Achiever
B6: Activator
B7: Adaptability
B8: Analytical
B9: Arranger
B10: B elief
B11: Command
B12: Communication
B13: Competition
B14: Connectedness
B15: Context
B16: Deliberative
... B38: Woo
A40: When you're ready (having finished making inferences and noting their related TOPICs), copy the three columns below into your INFERENCES page.
A42: "These data describe a person who …"
A44: Tool | B44: INFERENCES | C44: Key Word
A45: Stng Fndr
A46: Stng Fndr
A47: Stng Fndr
A48: Stng Fndr
A49: Stng Fndr
A50: Stng Fndr
A51: Stng Fndr
A52: Stng Fndr
A53: Stng Fndr
A54: Stng Fndr
A55: Stng Fndr
A56: Stng Fndr
... A66: Stng Fndr

Sheet SA26. Success Defn
A1: Success Definition | F1: <<Back
B4: Write down your definition of success:
B8: Source | C8: Inferences | F8: Key Word
B9: Success
B10: Success
B11: Success
B12: Success
B13: Success
B14: Success
B15: Success
B16: Success
B17: Success
B18: Success
B19: Success
B20: Success
B21: Success

Sheet SA 27. Early VABEs
A1: Early Childhood VABEs | G1: <<Back
B3: Write down the values, assumptions, beliefs and expectations (VABEs) you inherited from your early childhood. | L3: KEEP | M3: LOSE
B14: Now mark each one as something you would a) like to KEEP or b) LOSE.
B16: What inferences can you draw from these data?
B17: This is a person who ….
B18: SOURCE | C18: INFERENCES | D18: KEY WORD?
B19: VABEs
B20: VABEs
B21: VABEs
B22: VABEs
B23: VABEs
B24: VABEs
B25: VABEs
B26: VABEs
B27: VABEs
B28: VABEs
B29: VABEs
B30: VABEs
